BEGIN:VCALENDAR
VERSION:2.0
PRODID:-//SAFIT - ECPv6.15.9//NONSGML v1.0//EN
CALSCALE:GREGORIAN
METHOD:PUBLISH
X-WR-CALNAME:SAFIT
X-ORIGINAL-URL:https://safit.org
X-WR-CALDESC:Events for SAFIT
REFRESH-INTERVAL;VALUE=DURATION:PT1H
X-Robots-Tag:noindex
X-PUBLISHED-TTL:PT1H
BEGIN:VTIMEZONE
TZID:UTC
BEGIN:STANDARD
TZOFFSETFROM:+0000
TZOFFSETTO:+0000
TZNAME:UTC
DTSTART:20110101T000000
END:STANDARD
END:VTIMEZONE
BEGIN:VEVENT
DTSTART;VALUE=DATE:20120218
DTEND;VALUE=DATE:20120219
DTSTAMP:20260419T182302
CREATED:20240116T042242Z
LAST-MODIFIED:20240116T042257Z
UID:828-1329523200-1329609599@safit.org
SUMMARY:Trichoptera of Western North America
DESCRIPTION:Larval\, Pupal and Adult Taxonomy\, plus Distribution and Biology
URL:https://safit.org/event/trichoptera-of-western-north-america/
ATTACH;FMTTYPE=image/jpeg:https://safit.org/wp-content/uploads/2024/01/Tricop2012workshop.jpg
END:VEVENT
END:VCALENDAR