BEGIN:VCALENDAR
VERSION:2.0
PRODID:-//SAFIT - ECPv6.15.9//NONSGML v1.0//EN
CALSCALE:GREGORIAN
METHOD:PUBLISH
X-WR-CALNAME:SAFIT
X-ORIGINAL-URL:https://safit.org
X-WR-CALDESC:Events for SAFIT
REFRESH-INTERVAL;VALUE=DURATION:PT1H
X-Robots-Tag:noindex
X-PUBLISHED-TTL:PT1H
BEGIN:VTIMEZONE
TZID:UTC
BEGIN:STANDARD
TZOFFSETFROM:+0000
TZOFFSETTO:+0000
TZNAME:UTC
DTSTART:20170101T000000
END:STANDARD
END:VTIMEZONE
BEGIN:VEVENT
DTSTART;VALUE=DATE:20181020
DTEND;VALUE=DATE:20181021
DTSTAMP:20260419T091305
CREATED:20240116T041252Z
LAST-MODIFIED:20240116T041252Z
UID:820-1539993600-1540079999@safit.org
SUMMARY:Tiptoeing through Tipuloidea with Gelhaus and Podeniene
DESCRIPTION:October 20-21\, 2018\nHosted by University of California-Davis \nTipuloidea with Gelhaus and Podeniene presented by Dr. Jon Gelhaus and Dr. Virginia Podeniene of the Academy of Natural Sciences\, Philadelphia.
URL:https://safit.org/event/tiptoeing-through-tipuloidea-with-gelhaus-and-podeniene/
ATTACH;FMTTYPE=image/jpeg:https://safit.org/wp-content/uploads/2024/01/bugs_2018.jpg
END:VEVENT
END:VCALENDAR