BEGIN:VCALENDAR
VERSION:2.0
PRODID:-//SAFIT - ECPv6.15.9//NONSGML v1.0//EN
CALSCALE:GREGORIAN
METHOD:PUBLISH
X-WR-CALNAME:SAFIT
X-ORIGINAL-URL:https://safit.org
X-WR-CALDESC:Events for SAFIT
REFRESH-INTERVAL;VALUE=DURATION:PT1H
X-Robots-Tag:noindex
X-PUBLISHED-TTL:PT1H
BEGIN:VTIMEZONE
TZID:UTC
BEGIN:STANDARD
TZOFFSETFROM:+0000
TZOFFSETTO:+0000
TZNAME:UTC
DTSTART:20180101T000000
END:STANDARD
END:VTIMEZONE
BEGIN:VEVENT
DTSTART;VALUE=DATE:20191019
DTEND;VALUE=DATE:20191020
DTSTAMP:20260419T091836
CREATED:20240110T014209Z
LAST-MODIFIED:20240116T041126Z
UID:677-1571443200-1571529599@safit.org
SUMMARY:SAFIT 2019 Workshop: Aquatic Hemiptera/Heteroptera
DESCRIPTION:The workshop this year will focus on the aquatic Hemiptera/Heteroptera and will be presented by Dan Polhemus\, the Bishop Museum\, Hawaii. There will also be a section on taxonomic updates. \nAquatic Hemiptera/Heteroptera\, the true bugs\nwith Dan Polhemus\, Bishop Museum\nUniversity of California-Davis\nSAFIT_2019_Workshop Flyer
URL:https://safit.org/event/past-event-test/
LOCATION:Venue Name\, Address\, City\, 88888\, United States
ATTACH;FMTTYPE=image/jpeg:https://safit.org/wp-content/uploads/2024/01/workshop2019.jpg
ORGANIZER;CN="Dan P":MAILTO:Email here
END:VEVENT
END:VCALENDAR