BEGIN:VCALENDAR
VERSION:2.0
PRODID:-//SAFIT - ECPv6.15.9//NONSGML v1.0//EN
CALSCALE:GREGORIAN
METHOD:PUBLISH
X-WR-CALNAME:SAFIT
X-ORIGINAL-URL:https://safit.org
X-WR-CALDESC:Events for SAFIT
REFRESH-INTERVAL;VALUE=DURATION:PT1H
X-Robots-Tag:noindex
X-PUBLISHED-TTL:PT1H
BEGIN:VTIMEZONE
TZID:UTC
BEGIN:STANDARD
TZOFFSETFROM:+0000
TZOFFSETTO:+0000
TZNAME:UTC
DTSTART:20140101T000000
END:STANDARD
END:VTIMEZONE
BEGIN:VEVENT
DTSTART;VALUE=DATE:20150819
DTEND;VALUE=DATE:20150820
DTSTAMP:20260419T220044
CREATED:20240116T042035Z
LAST-MODIFIED:20240116T042035Z
UID:824-1439942400-1440028799@safit.org
SUMMARY:Beetlemania II
DESCRIPTION:August 19-21\, 2015\nHosted by The National Aquatic Monitoring Center\nUtah State University Logan\, UT \ninstruction on the taxonomy\, identification\, and natural history of western North American aquatic Coleoptera (beetles)\, with an emphasis on Hydrophiloidea\, Hydraenidae\, and Noteridae.
URL:https://safit.org/event/beetlemania-ii/
ATTACH;FMTTYPE=image/jpeg:https://safit.org/wp-content/uploads/2024/01/Beetlemania2.jpg
END:VEVENT
END:VCALENDAR