BEGIN:VCALENDAR
VERSION:2.0
PRODID:-//SAFIT - ECPv6.15.9//NONSGML v1.0//EN
CALSCALE:GREGORIAN
METHOD:PUBLISH
X-WR-CALNAME:SAFIT
X-ORIGINAL-URL:https://safit.org
X-WR-CALDESC:Events for SAFIT
REFRESH-INTERVAL;VALUE=DURATION:PT1H
X-Robots-Tag:noindex
X-PUBLISHED-TTL:PT1H
BEGIN:VTIMEZONE
TZID:UTC
BEGIN:STANDARD
TZOFFSETFROM:+0000
TZOFFSETTO:+0000
TZNAME:UTC
DTSTART:20090101T000000
END:STANDARD
END:VTIMEZONE
BEGIN:VEVENT
DTSTART;VALUE=DATE:20100618
DTEND;VALUE=DATE:20100619
DTSTAMP:20260419T165828
CREATED:20240116T042637Z
LAST-MODIFIED:20240116T042637Z
UID:833-1276819200-1276905599@safit.org
SUMMARY:Aquatic Diptera Workshop
DESCRIPTION:June 18-20\, 2010
URL:https://safit.org/event/aquatic-diptera-workshop/
END:VEVENT
END:VCALENDAR